{
 "currentVersion": 10.61,
 "serviceDescription": "Servicio de prueba de ortofoto 2017 con dos fotogramas",
 "mapName": "Layers",
 "description": "",
 "copyrightText": "Ayuntamiento de Valladolid",
 "supportsDynamicLayers": true,
 "layers": [
  {
   "id": 0,
   "name": "PNOA_CYL_2017_25cm_OF_etrsc_rgb_hu30_h05_0343_1-1.tif",
   "parentLayerId": -1,
   "defaultVisibility": true,
   "subLayerIds": null,
   "minScale": 0,
   "maxScale": 0
  },
  {
   "id": 1,
   "name": "PNOA_CYL_2017_25cm_OF_etrsc_rgb_hu30_h05_0343_1-2.tif",
   "parentLayerId": -1,
   "defaultVisibility": true,
   "subLayerIds": null,
   "minScale": 0,
   "maxScale": 0
  },
  {
   "id": 2,
   "name": "PNOA_CYL_2017_25cm_OF_etrsc_rgb_hu30_h05_0343_6-7.tif",
   "parentLayerId": -1,
   "defaultVisibility": true,
   "subLayerIds": null,
   "minScale": 0,
   "maxScale": 0
  },
  {
   "id": 3,
   "name": "PNOA_CYL_2017_25cm_OF_etrsc_rgb_hu30_h05_0343_6-8.tif",
   "parentLayerId": -1,
   "defaultVisibility": true,
   "subLayerIds": null,
   "minScale": 0,
   "maxScale": 0
  },
  {
   "id": 4,
   "name": "PNOA_CYL_2017_25cm_OF_etrsc_rgb_hu30_h05_0343_1-3.tif",
   "parentLayerId": -1,
   "defaultVisibility": true,
   "subLayerIds": null,
   "minScale": 0,
   "maxScale": 0
  },
  {
   "id": 5,
   "name": "PNOA_CYL_2017_25cm_OF_etrsc_rgb_hu30_h05_0343_1-4.tif",
   "parentLayerId": -1,
   "defaultVisibility": true,
   "subLayerIds": null,
   "minScale": 0,
   "maxScale": 0
  },
  {
   "id": 6,
   "name": "PNOA_CYL_2017_25cm_OF_etrsc_rgb_hu30_h05_0343_1-5.tif",
   "parentLayerId": -1,
   "defaultVisibility": true,
   "subLayerIds": null,
   "minScale": 0,
   "maxScale": 0
  },
  {
   "id": 7,
   "name": "PNOA_CYL_2017_25cm_OF_etrsc_rgb_hu30_h05_0343_1-6.tif",
   "parentLayerId": -1,
   "defaultVisibility": true,
   "subLayerIds": null,
   "minScale": 0,
   "maxScale": 0
  },
  {
   "id": 8,
   "name": "PNOA_CYL_2017_25cm_OF_etrsc_rgb_hu30_h05_0342_8-2.tif",
   "parentLayerId": -1,
   "defaultVisibility": true,
   "subLayerIds": null,
   "minScale": 0,
   "maxScale": 0
  },
  {
   "id": 9,
   "name": "PNOA_CYL_2017_25cm_OF_etrsc_rgb_hu30_h05_0342_8-3.tif",
   "parentLayerId": -1,
   "defaultVisibility": true,
   "subLayerIds": null,
   "minScale": 0,
   "maxScale": 0
  },
  {
   "id": 10,
   "name": "PNOA_CYL_2017_25cm_OF_etrsc_rgb_hu30_h05_0342_8-4.tif",
   "parentLayerId": -1,
   "defaultVisibility": true,
   "subLayerIds": null,
   "minScale": 0,
   "maxScale": 0
  },
  {
   "id": 11,
   "name": "PNOA_CYL_2017_25cm_OF_etrsc_rgb_hu30_h05_0342_8-5.tif",
   "parentLayerId": -1,
   "defaultVisibility": true,
   "subLayerIds": null,
   "minScale": 0,
   "maxScale": 0
  },
  {
   "id": 12,
   "name": "PNOA_CYL_2017_25cm_OF_etrsc_rgb_hu30_h05_0342_8-6.tif",
   "parentLayerId": -1,
   "defaultVisibility": true,
   "subLayerIds": null,
   "minScale": 0,
   "maxScale": 0
  },
  {
   "id": 13,
   "name": "PNOA_CYL_2017_25cm_OF_etrsc_rgb_hu30_h05_0342_7-2.tif",
   "parentLayerId": -1,
   "defaultVisibility": true,
   "subLayerIds": null,
   "minScale": 0,
   "maxScale": 0
  },
  {
   "id": 14,
   "name": "PNOA_CYL_2017_25cm_OF_etrsc_rgb_hu30_h05_0342_7-3.tif",
   "parentLayerId": -1,
   "defaultVisibility": true,
   "subLayerIds": null,
   "minScale": 0,
   "maxScale": 0
  },
  {
   "id": 15,
   "name": "PNOA_CYL_2017_25cm_OF_etrsc_rgb_hu30_h05_0342_7-5.tif",
   "parentLayerId": -1,
   "defaultVisibility": true,
   "subLayerIds": null,
   "minScale": 0,
   "maxScale": 0
  },
  {
   "id": 16,
   "name": "PNOA_CYL_2017_25cm_OF_etrsc_rgb_hu30_h05_0342_7-6.tif",
   "parentLayerId": -1,
   "defaultVisibility": true,
   "subLayerIds": null,
   "minScale": 0,
   "maxScale": 0
  },
  {
   "id": 17,
   "name": "PNOA_CYL_2017_25cm_OF_etrsc_rgb_hu30_h05_0371_7-2.tif",
   "parentLayerId": -1,
   "defaultVisibility": true,
   "subLayerIds": null,
   "minScale": 0,
   "maxScale": 0
  },
  {
   "id": 18,
   "name": "PNOA_CYL_2017_25cm_OF_etrsc_rgb_hu30_h05_0371_7-3.tif",
   "parentLayerId": -1,
   "defaultVisibility": true,
   "subLayerIds": null,
   "minScale": 0,
   "maxScale": 0
  },
  {
   "id": 19,
   "name": "PNOA_CYL_2017_25cm_OF_etrsc_rgb_hu30_h05_0371_8-2.tif",
   "parentLayerId": -1,
   "defaultVisibility": true,
   "subLayerIds": null,
   "minScale": 0,
   "maxScale": 0
  },
  {
   "id": 20,
   "name": "PNOA_CYL_2017_25cm_OF_etrsc_rgb_hu30_h05_0371_8-3.tif",
   "parentLayerId": -1,
   "defaultVisibility": true,
   "subLayerIds": null,
   "minScale": 0,
   "maxScale": 0
  },
  {
   "id": 21,
   "name": "PNOA_CYL_2017_25cm_OF_etrsc_rgb_hu30_h05_0343_5-6.tif",
   "parentLayerId": -1,
   "defaultVisibility": true,
   "subLayerIds": null,
   "minScale": 0,
   "maxScale": 0
  },
  {
   "id": 22,
   "name": "PNOA_CYL_2017_25cm_OF_etrsc_rgb_hu30_h05_0343_5-7.tif",
   "parentLayerId": -1,
   "defaultVisibility": true,
   "subLayerIds": null,
   "minScale": 0,
   "maxScale": 0
  },
  {
   "id": 23,
   "name": "PNOA_CYL_2017_25cm_OF_etrsc_rgb_hu30_h05_0372_2-1.tif",
   "parentLayerId": -1,
   "defaultVisibility": true,
   "subLayerIds": null,
   "minScale": 0,
   "maxScale": 0
  },
  {
   "id": 24,
   "name": "PNOA_CYL_2017_25cm_OF_etrsc_rgb_hu30_h05_0343_2-8.tif",
   "parentLayerId": -1,
   "defaultVisibility": true,
   "subLayerIds": null,
   "minScale": 0,
   "maxScale": 0
  },
  {
   "id": 25,
   "name": "PNOA_CYL_2017_25cm_OF_etrsc_rgb_hu30_h05_0372_2-2.tif",
   "parentLayerId": -1,
   "defaultVisibility": true,
   "subLayerIds": null,
   "minScale": 0,
   "maxScale": 0
  },
  {
   "id": 26,
   "name": "PNOA_CYL_2017_25cm_OF_etrsc_rgb_hu30_h05_0371_8-6.tif",
   "parentLayerId": -1,
   "defaultVisibility": true,
   "subLayerIds": null,
   "minScale": 0,
   "maxScale": 0
  },
  {
   "id": 27,
   "name": "PNOA_CYL_2017_25cm_OF_etrsc_rgb_hu30_h05_0372_3-7.tif",
   "parentLayerId": -1,
   "defaultVisibility": true,
   "subLayerIds": null,
   "minScale": 0,
   "maxScale": 0
  },
  {
   "id": 28,
   "name": "PNOA_CYL_2017_25cm_OF_etrsc_rgb_hu30_h05_0372_2-7.tif",
   "parentLayerId": -1,
   "defaultVisibility": true,
   "subLayerIds": null,
   "minScale": 0,
   "maxScale": 0
  },
  {
   "id": 29,
   "name": "PNOA_CYL_2017_25cm_OF_etrsc_rgb_hu30_h05_0372_1-7.tif",
   "parentLayerId": -1,
   "defaultVisibility": true,
   "subLayerIds": null,
   "minScale": 0,
   "maxScale": 0
  },
  {
   "id": 30,
   "name": "PNOA_CYL_2017_25cm_OF_etrsc_rgb_hu30_h05_0372_3-6.tif",
   "parentLayerId": -1,
   "defaultVisibility": true,
   "subLayerIds": null,
   "minScale": 0,
   "maxScale": 0
  },
  {
   "id": 31,
   "name": "PNOA_CYL_2017_25cm_OF_etrsc_rgb_hu30_h05_0372_2-6.tif",
   "parentLayerId": -1,
   "defaultVisibility": true,
   "subLayerIds": null,
   "minScale": 0,
   "maxScale": 0
  },
  {
   "id": 32,
   "name": "PNOA_CYL_2017_25cm_OF_etrsc_rgb_hu30_h05_0372_1-6.tif",
   "parentLayerId": -1,
   "defaultVisibility": true,
   "subLayerIds": null,
   "minScale": 0,
   "maxScale": 0
  },
  {
   "id": 33,
   "name": "PNOA_CYL_2017_25cm_OF_etrsc_rgb_hu30_h05_0372_2-5.tif",
   "parentLayerId": -1,
   "defaultVisibility": true,
   "subLayerIds": null,
   "minScale": 0,
   "maxScale": 0
  },
  {
   "id": 34,
   "name": "PNOA_CYL_2017_25cm_OF_etrsc_rgb_hu30_h05_0372_3-5.tif",
   "parentLayerId": -1,
   "defaultVisibility": true,
   "subLayerIds": null,
   "minScale": 0,
   "maxScale": 0
  },
  {
   "id": 35,
   "name": "PNOA_CYL_2017_25cm_OF_etrsc_rgb_hu30_h05_0372_2-3.tif",
   "parentLayerId": -1,
   "defaultVisibility": true,
   "subLayerIds": null,
   "minScale": 0,
   "maxScale": 0
  },
  {
   "id": 36,
   "name": "PNOA_CYL_2017_25cm_OF_etrsc_rgb_hu30_h05_0372_2-4.tif",
   "parentLayerId": -1,
   "defaultVisibility": true,
   "subLayerIds": null,
   "minScale": 0,
   "maxScale": 0
  },
  {
   "id": 37,
   "name": "PNOA_CYL_2017_25cm_OF_etrsc_rgb_hu30_h05_0372_3-4.tif",
   "parentLayerId": -1,
   "defaultVisibility": true,
   "subLayerIds": null,
   "minScale": 0,
   "maxScale": 0
  },
  {
   "id": 38,
   "name": "PNOA_CYL_2017_25cm_OF_etrsc_rgb_hu30_h05_0372_4-4.tif",
   "parentLayerId": -1,
   "defaultVisibility": true,
   "subLayerIds": null,
   "minScale": 0,
   "maxScale": 0
  },
  {
   "id": 39,
   "name": "PNOA_CYL_2017_25cm_OF_etrsc_rgb_hu30_h05_0372_5-3.tif",
   "parentLayerId": -1,
   "defaultVisibility": true,
   "subLayerIds": null,
   "minScale": 0,
   "maxScale": 0
  },
  {
   "id": 40,
   "name": "PNOA_CYL_2017_25cm_OF_etrsc_rgb_hu30_h05_0372_5-2.tif",
   "parentLayerId": -1,
   "defaultVisibility": true,
   "subLayerIds": null,
   "minScale": 0,
   "maxScale": 0
  },
  {
   "id": 41,
   "name": "PNOA_CYL_2017_25cm_OF_etrsc_rgb_hu30_h05_0372_5-1.tif",
   "parentLayerId": -1,
   "defaultVisibility": true,
   "subLayerIds": null,
   "minScale": 0,
   "maxScale": 0
  },
  {
   "id": 42,
   "name": "PNOA_CYL_2017_25cm_OF_etrsc_rgb_hu30_h05_0343_5-8.tif",
   "parentLayerId": -1,
   "defaultVisibility": true,
   "subLayerIds": null,
   "minScale": 0,
   "maxScale": 0
  },
  {
   "id": 43,
   "name": "PNOA_CYL_2017_25cm_OF_etrsc_rgb_hu30_h05_0343_4-6.tif",
   "parentLayerId": -1,
   "defaultVisibility": true,
   "subLayerIds": null,
   "minScale": 0,
   "maxScale": 0
  },
  {
   "id": 44,
   "name": "PNOA_CYL_2017_25cm_OF_etrsc_rgb_hu30_h05_0343_4-7.tif",
   "parentLayerId": -1,
   "defaultVisibility": true,
   "subLayerIds": null,
   "minScale": 0,
   "maxScale": 0
  },
  {
   "id": 45,
   "name": "PNOA_CYL_2017_25cm_OF_etrsc_rgb_hu30_h05_0343_3-7.tif",
   "parentLayerId": -1,
   "defaultVisibility": true,
   "subLayerIds": null,
   "minScale": 0,
   "maxScale": 0
  },
  {
   "id": 46,
   "name": "PNOA_CYL_2017_25cm_OF_etrsc_rgb_hu30_h05_0343_2-7.tif",
   "parentLayerId": -1,
   "defaultVisibility": true,
   "subLayerIds": null,
   "minScale": 0,
   "maxScale": 0
  },
  {
   "id": 47,
   "name": "PNOA_CYL_2017_25cm_OF_etrsc_rgb_hu30_h05_0343_3-8.tif",
   "parentLayerId": -1,
   "defaultVisibility": true,
   "subLayerIds": null,
   "minScale": 0,
   "maxScale": 0
  },
  {
   "id": 48,
   "name": "PNOA_CYL_2017_25cm_OF_etrsc_rgb_hu30_h05_0343_4-8.tif",
   "parentLayerId": -1,
   "defaultVisibility": true,
   "subLayerIds": null,
   "minScale": 0,
   "maxScale": 0
  },
  {
   "id": 49,
   "name": "PNOA_CYL_2017_25cm_OF_etrsc_rgb_hu30_h05_0372_3-1.tif",
   "parentLayerId": -1,
   "defaultVisibility": true,
   "subLayerIds": null,
   "minScale": 0,
   "maxScale": 0
  },
  {
   "id": 50,
   "name": "PNOA_CYL_2017_25cm_OF_etrsc_rgb_hu30_h05_0372_3-2.tif",
   "parentLayerId": -1,
   "defaultVisibility": true,
   "subLayerIds": null,
   "minScale": 0,
   "maxScale": 0
  },
  {
   "id": 51,
   "name": "PNOA_CYL_2017_25cm_OF_etrsc_rgb_hu30_h05_0372_3-3.tif",
   "parentLayerId": -1,
   "defaultVisibility": true,
   "subLayerIds": null,
   "minScale": 0,
   "maxScale": 0
  },
  {
   "id": 52,
   "name": "PNOA_CYL_2017_25cm_OF_etrsc_rgb_hu30_h05_0372_4-1.tif",
   "parentLayerId": -1,
   "defaultVisibility": true,
   "subLayerIds": null,
   "minScale": 0,
   "maxScale": 0
  },
  {
   "id": 53,
   "name": "PNOA_CYL_2017_25cm_OF_etrsc_rgb_hu30_h05_0372_4-2.tif",
   "parentLayerId": -1,
   "defaultVisibility": true,
   "subLayerIds": null,
   "minScale": 0,
   "maxScale": 0
  },
  {
   "id": 54,
   "name": "PNOA_CYL_2017_25cm_OF_etrsc_rgb_hu30_h05_0372_4-3.tif",
   "parentLayerId": -1,
   "defaultVisibility": true,
   "subLayerIds": null,
   "minScale": 0,
   "maxScale": 0
  }
 ],
 "tables": [],
 "spatialReference": {
  "wkid": 25830,
  "latestWkid": 25830
 },
 "singleFusedMapCache": true,
 "tileInfo": {
  "rows": 256,
  "cols": 256,
  "dpi": 96,
  "format": "MIXED",
  "compressionQuality": 75,
  "origin": {
   "x": -5120900,
   "y": 9998100
  },
  "spatialReference": {
   "wkid": 25830,
   "latestWkid": 25830
  },
  "lods": [
   {
    "level": 0,
    "resolution": 52.91677250021167,
    "scale": 200000
   },
   {
    "level": 1,
    "resolution": 39.687579375158755,
    "scale": 150000
   },
   {
    "level": 2,
    "resolution": 26.458386250105836,
    "scale": 100000
   },
   {
    "level": 3,
    "resolution": 19.843789687579378,
    "scale": 75000
   },
   {
    "level": 4,
    "resolution": 13.229193125052918,
    "scale": 50000
   },
   {
    "level": 5,
    "resolution": 6.614596562526459,
    "scale": 25000
   },
   {
    "level": 6,
    "resolution": 5.291677250021167,
    "scale": 20000
   },
   {
    "level": 7,
    "resolution": 3.9687579375158752,
    "scale": 15000
   },
   {
    "level": 8,
    "resolution": 2.6458386250105836,
    "scale": 10000
   },
   {
    "level": 9,
    "resolution": 1.9843789687579376,
    "scale": 7500
   },
   {
    "level": 10,
    "resolution": 1.3229193125052918,
    "scale": 5000
   },
   {
    "level": 11,
    "resolution": 0.7937515875031751,
    "scale": 3000
   },
   {
    "level": 12,
    "resolution": 0.5291677250021167,
    "scale": 2000
   },
   {
    "level": 13,
    "resolution": 0.26458386250105836,
    "scale": 1000
   }
  ]
 },
 "initialExtent": {
  "xmin": 344387.20634375553,
  "ymin": 4593924.171448129,
  "xmax": 385407.7722797145,
  "ymax": 4622357.699823012,
  "spatialReference": {
   "wkid": 25830,
   "latestWkid": 25830
  }
 },
 "fullExtent": {
  "xmin": 338490,
  "ymin": 4597970,
  "xmax": 366590,
  "ymax": 4632990,
  "spatialReference": {
   "wkid": 25830,
   "latestWkid": 25830
  }
 },
 "minScale": 200000,
 "maxScale": 1000,
 "units": "esriMeters",
 "supportedImageFormatTypes": "PNG32,PNG24,PNG,JPG,DIB,TIFF,EMF,PS,PDF,GIF,SVG,SVGZ,BMP",
 "documentInfo": {
  "Title": "",
  "Author": "",
  "Comments": "Servicio de prueba de ortofoto 2017 con dos fotogramas",
  "Subject": "Prueba de Ortofoto 2017",
  "Category": "",
  "AntialiasingMode": "None",
  "TextAntialiasingMode": "Force",
  "Keywords": "ortofoto 2017"
 },
 "capabilities": "Map",
 "supportedQueryFormats": "JSON, AMF, geoJSON",
 "exportTilesAllowed": false,
 "supportsDatumTransformation": true,
 "maxRecordCount": 1000,
 "maxImageHeight": 4096,
 "maxImageWidth": 4096,
 "supportedExtensions": ""
}
