{
 "currentVersion": 10.61,
 "serviceDescription": "Basse específica del mapa de ruido de Valladolid",
 "mapName": "Capas",
 "description": "",
 "copyrightText": "Ayuntamiento de Valladolid",
 "supportsDynamicLayers": false,
 "layers": [
  {
   "id": 0,
   "name": "Base Merva 2022",
   "parentLayerId": -1,
   "defaultVisibility": true,
   "subLayerIds": [
    1,
    2,
    3,
    4,
    5,
    6,
    7,
    8
   ],
   "minScale": 25000,
   "maxScale": 0
  },
  {
   "id": 1,
   "name": "Ferrocarril",
   "parentLayerId": 0,
   "defaultVisibility": true,
   "subLayerIds": null,
   "minScale": 0,
   "maxScale": 0
  },
  {
   "id": 2,
   "name": " MERVA-4F - Carretera",
   "parentLayerId": 0,
   "defaultVisibility": true,
   "subLayerIds": null,
   "minScale": 0,
   "maxScale": 0
  },
  {
   "id": 3,
   "name": "MERVA-4F - Pantalla",
   "parentLayerId": 0,
   "defaultVisibility": true,
   "subLayerIds": null,
   "minScale": 0,
   "maxScale": 0
  },
  {
   "id": 4,
   "name": "Servidumbre acústica ferrocarril",
   "parentLayerId": 0,
   "defaultVisibility": true,
   "subLayerIds": null,
   "minScale": 0,
   "maxScale": 0
  },
  {
   "id": 5,
   "name": "Hidrografía",
   "parentLayerId": 0,
   "defaultVisibility": true,
   "subLayerIds": null,
   "minScale": 0,
   "maxScale": 0
  },
  {
   "id": 6,
   "name": "Manzanas Urbanas",
   "parentLayerId": 0,
   "defaultVisibility": true,
   "subLayerIds": null,
   "minScale": 0,
   "maxScale": 0
  },
  {
   "id": 7,
   "name": "CONSTRUIDO URB",
   "parentLayerId": 0,
   "defaultVisibility": true,
   "subLayerIds": null,
   "minScale": 0,
   "maxScale": 0
  },
  {
   "id": 8,
   "name": "CONSTRUIDO RUS",
   "parentLayerId": 0,
   "defaultVisibility": true,
   "subLayerIds": null,
   "minScale": 0,
   "maxScale": 0
  }
 ],
 "tables": [],
 "spatialReference": {
  "wkid": 25830,
  "latestWkid": 25830
 },
 "singleFusedMapCache": true,
 "tileInfo": {
  "rows": 256,
  "cols": 256,
  "dpi": 96,
  "format": "PNG",
  "compressionQuality": 0,
  "origin": {
   "x": -5120900,
   "y": 9998100
  },
  "spatialReference": {
   "wkid": 25830,
   "latestWkid": 25830
  },
  "lods": [
   {
    "level": 0,
    "resolution": 52.91677250021167,
    "scale": 200000
   },
   {
    "level": 1,
    "resolution": 39.687579375158755,
    "scale": 150000
   },
   {
    "level": 2,
    "resolution": 26.458386250105836,
    "scale": 100000
   },
   {
    "level": 3,
    "resolution": 19.843789687579378,
    "scale": 75000
   },
   {
    "level": 4,
    "resolution": 13.229193125052918,
    "scale": 50000
   },
   {
    "level": 5,
    "resolution": 6.614596562526459,
    "scale": 25000
   },
   {
    "level": 6,
    "resolution": 5.291677250021167,
    "scale": 20000
   },
   {
    "level": 7,
    "resolution": 3.9687579375158752,
    "scale": 15000
   },
   {
    "level": 8,
    "resolution": 2.6458386250105836,
    "scale": 10000
   },
   {
    "level": 9,
    "resolution": 1.9843789687579376,
    "scale": 7500
   },
   {
    "level": 10,
    "resolution": 1.3229193125052918,
    "scale": 5000
   },
   {
    "level": 11,
    "resolution": 0.7937515875031751,
    "scale": 3000
   },
   {
    "level": 12,
    "resolution": 0.5291677250021167,
    "scale": 2000
   },
   {
    "level": 13,
    "resolution": 0.26458386250105836,
    "scale": 1000
   },
   {
    "level": 14,
    "resolution": 0.13229193125052918,
    "scale": 500
   }
  ]
 },
 "initialExtent": {
  "xmin": 351931.7461195998,
  "ymin": 4611506.838185336,
  "xmax": 359194.68651915295,
  "ymax": 4614030.441753838,
  "spatialReference": {
   "wkid": 25830,
   "latestWkid": 25830
  }
 },
 "fullExtent": {
  "xmin": 341265.503,
  "ymin": 4598443.7919,
  "xmax": 363883.2369,
  "ymax": 4629790.858,
  "spatialReference": {
   "wkid": 25830,
   "latestWkid": 25830
  }
 },
 "minScale": 200000,
 "maxScale": 500,
 "units": "esriMeters",
 "supportedImageFormatTypes": "PNG32,PNG24,PNG,JPG,DIB,TIFF,EMF,PS,PDF,GIF,SVG,SVGZ,BMP",
 "documentInfo": {
  "Title": "",
  "Author": "",
  "Comments": "Base específica provisional del mapa de ruido de Valladolid",
  "Subject": "Base provisional empleada para el cálculo del mapa de ruido de Valladolid",
  "Category": "",
  "AntialiasingMode": "None",
  "TextAntialiasingMode": "Force",
  "Keywords": "Base Merva 2018"
 },
 "capabilities": "Map,Query,Data",
 "supportedQueryFormats": "JSON, AMF, geoJSON",
 "exportTilesAllowed": false,
 "supportsDatumTransformation": true,
 "maxRecordCount": 1000,
 "maxImageHeight": 4096,
 "maxImageWidth": 4096,
 "supportedExtensions": ""
}
