{
 "currentVersion": 10.61,
 "serviceDescription": "Este es un plano de la cartografía base de Valladolid, que utiliza la información de la librería Valllad junto con algunas capas del callejero. Dependiendo de la escala se activan unas capas u otras.",
 "mapName": "Capas",
 "description": "",
 "copyrightText": "Ayuntamiento de Valladolid",
 "supportsDynamicLayers": false,
 "layers": [
  {
   "id": 0,
   "name": "SDE.subpa_rustica_lab_ajust",
   "parentLayerId": -1,
   "defaultVisibility": true,
   "subLayerIds": null,
   "minScale": 500,
   "maxScale": 0
  },
  {
   "id": 1,
   "name": "Número Parcela Rústica",
   "parentLayerId": -1,
   "defaultVisibility": true,
   "subLayerIds": null,
   "minScale": 1000,
   "maxScale": 0
  },
  {
   "id": 2,
   "name": "Alturas Edificios",
   "parentLayerId": -1,
   "defaultVisibility": true,
   "subLayerIds": null,
   "minScale": 500,
   "maxScale": 0
  },
  {
   "id": 3,
   "name": "Número Parcela Urbana",
   "parentLayerId": -1,
   "defaultVisibility": true,
   "subLayerIds": null,
   "minScale": 1000,
   "maxScale": 0
  },
  {
   "id": 4,
   "name": "Referencia de Manzana",
   "parentLayerId": -1,
   "defaultVisibility": true,
   "subLayerIds": null,
   "minScale": 1000,
   "maxScale": 0
  },
  {
   "id": 5,
   "name": "Rondas Simples",
   "parentLayerId": -1,
   "defaultVisibility": true,
   "subLayerIds": null,
   "minScale": 0,
   "maxScale": 7000
  },
  {
   "id": 6,
   "name": "Rondas y Calles Principales",
   "parentLayerId": -1,
   "defaultVisibility": true,
   "subLayerIds": null,
   "minScale": 6900,
   "maxScale": 3001
  },
  {
   "id": 7,
   "name": "Zonas Verdes",
   "parentLayerId": -1,
   "defaultVisibility": true,
   "subLayerIds": null,
   "minScale": 10000,
   "maxScale": 3001
  },
  {
   "id": 8,
   "name": "Líneas Rústica",
   "parentLayerId": -1,
   "defaultVisibility": true,
   "subLayerIds": null,
   "minScale": 5500,
   "maxScale": 0
  },
  {
   "id": 9,
   "name": "Construido Rústica",
   "parentLayerId": -1,
   "defaultVisibility": true,
   "subLayerIds": null,
   "minScale": 0,
   "maxScale": 4000
  },
  {
   "id": 10,
   "name": "Líneas Urbana",
   "parentLayerId": -1,
   "defaultVisibility": true,
   "subLayerIds": null,
   "minScale": 3000,
   "maxScale": 0
  },
  {
   "id": 11,
   "name": "Límite de Término",
   "parentLayerId": -1,
   "defaultVisibility": true,
   "subLayerIds": null,
   "minScale": 10000,
   "maxScale": 0
  },
  {
   "id": 12,
   "name": "Ferrocarril",
   "parentLayerId": -1,
   "defaultVisibility": true,
   "subLayerIds": null,
   "minScale": 0,
   "maxScale": 0
  },
  {
   "id": 13,
   "name": "Vias",
   "parentLayerId": -1,
   "defaultVisibility": true,
   "subLayerIds": null,
   "minScale": 6999,
   "maxScale": 0
  },
  {
   "id": 14,
   "name": "Mobiliario",
   "parentLayerId": -1,
   "defaultVisibility": true,
   "subLayerIds": null,
   "minScale": 3000,
   "maxScale": 0
  },
  {
   "id": 15,
   "name": "Líneas de Rústica",
   "parentLayerId": -1,
   "defaultVisibility": true,
   "subLayerIds": null,
   "minScale": 0,
   "maxScale": 5501
  },
  {
   "id": 16,
   "name": "Hidrografía",
   "parentLayerId": -1,
   "defaultVisibility": true,
   "subLayerIds": null,
   "minScale": 10000,
   "maxScale": 0
  },
  {
   "id": 17,
   "name": "Líneas de Parcelas Urbanas",
   "parentLayerId": -1,
   "defaultVisibility": true,
   "subLayerIds": null,
   "minScale": 0,
   "maxScale": 3001
  },
  {
   "id": 18,
   "name": "Parcelas Rústicas",
   "parentLayerId": -1,
   "defaultVisibility": true,
   "subLayerIds": null,
   "minScale": 0,
   "maxScale": 0
  },
  {
   "id": 19,
   "name": "Edificios Singulares",
   "parentLayerId": -1,
   "defaultVisibility": true,
   "subLayerIds": null,
   "minScale": 10000,
   "maxScale": 4000
  },
  {
   "id": 20,
   "name": "Construido Urbana",
   "parentLayerId": -1,
   "defaultVisibility": true,
   "subLayerIds": null,
   "minScale": 0,
   "maxScale": 4000
  },
  {
   "id": 21,
   "name": "Río",
   "parentLayerId": -1,
   "defaultVisibility": true,
   "subLayerIds": null,
   "minScale": 0,
   "maxScale": 0
  },
  {
   "id": 22,
   "name": "Manzanas Urbanas",
   "parentLayerId": -1,
   "defaultVisibility": true,
   "subLayerIds": null,
   "minScale": 0,
   "maxScale": 0
  }
 ],
 "tables": [],
 "spatialReference": {
  "wkid": 25830,
  "latestWkid": 25830
 },
 "singleFusedMapCache": true,
 "tileInfo": {
  "rows": 256,
  "cols": 256,
  "dpi": 96,
  "format": "PNG",
  "compressionQuality": 0,
  "origin": {
   "x": -5120900,
   "y": 9998100
  },
  "spatialReference": {
   "wkid": 25830,
   "latestWkid": 25830
  },
  "lods": [
   {
    "level": 0,
    "resolution": 52.91677250021167,
    "scale": 200000
   },
   {
    "level": 1,
    "resolution": 39.687579375158755,
    "scale": 150000
   },
   {
    "level": 2,
    "resolution": 26.458386250105836,
    "scale": 100000
   },
   {
    "level": 3,
    "resolution": 19.843789687579378,
    "scale": 75000
   },
   {
    "level": 4,
    "resolution": 13.229193125052918,
    "scale": 50000
   },
   {
    "level": 5,
    "resolution": 6.614596562526459,
    "scale": 25000
   },
   {
    "level": 6,
    "resolution": 5.291677250021167,
    "scale": 20000
   },
   {
    "level": 7,
    "resolution": 3.9687579375158752,
    "scale": 15000
   },
   {
    "level": 8,
    "resolution": 2.6458386250105836,
    "scale": 10000
   },
   {
    "level": 9,
    "resolution": 1.9843789687579376,
    "scale": 7500
   },
   {
    "level": 10,
    "resolution": 1.3229193125052918,
    "scale": 5000
   },
   {
    "level": 11,
    "resolution": 0.7937515875031751,
    "scale": 3000
   },
   {
    "level": 12,
    "resolution": 0.5291677250021167,
    "scale": 2000
   },
   {
    "level": 13,
    "resolution": 0.26458386250105836,
    "scale": 1000
   },
   {
    "level": 14,
    "resolution": 0.13229193125052918,
    "scale": 500
   }
  ]
 },
 "initialExtent": {
  "xmin": 355975.6378895625,
  "ymin": 4612540.690999127,
  "xmax": 356191.6706132947,
  "ymax": 4612653.139140691,
  "spatialReference": {
   "wkid": 25830,
   "latestWkid": 25830
  }
 },
 "fullExtent": {
  "xmin": 339818.3868,
  "ymin": 4598372.8008,
  "xmax": 364390.2723,
  "ymax": 4631281.8439,
  "spatialReference": {
   "wkid": 25830,
   "latestWkid": 25830
  }
 },
 "minScale": 200000,
 "maxScale": 500,
 "units": "esriMeters",
 "supportedImageFormatTypes": "PNG32,PNG24,PNG,JPG,DIB,TIFF,EMF,PS,PDF,GIF,SVG,SVGZ,BMP",
 "documentInfo": {
  "Title": "Base cartográfica de Valladolid",
  "Author": "Luis Fernando Toribio Cardeñosa",
  "Comments": "Este es un plano de la cartografía base de Valladolid, que utiliza la información de la librería Valllad junto con algunas capas del callejero. Dependiendo de la escala se activan unas capas u otras.",
  "Subject": "Plano de la base cartográfica de Valladolid",
  "Category": "",
  "AntialiasingMode": "None",
  "TextAntialiasingMode": "Force",
  "Keywords": "Base Cartográfica,Ayuntamiento de Valladolid,Cartografía"
 },
 "capabilities": "Map,Query,Data",
 "supportedQueryFormats": "JSON, AMF, geoJSON",
 "hasVersionedData": true,
 "exportTilesAllowed": false,
 "datumTransformations": [
  {
   "geoTransforms": [
    {
     "wkid": 108001,
     "latestWkid": 1241,
     "transformForward": true,
     "name": "NAD_1927_To_NAD_1983_NADCON"
    }
   ]
  },
  {
   "geoTransforms": [
    {
     "wkid": 108001,
     "latestWkid": 1241,
     "transformForward": false,
     "name": "NAD_1927_To_NAD_1983_NADCON"
    }
   ]
  }
 ],
 "supportsDatumTransformation": true,
 "maxRecordCount": 1000,
 "maxImageHeight": 4096,
 "maxImageWidth": 4096,
 "supportedExtensions": ""
}
